BEGIN:VCALENDAR
VERSION:2.0
PRODID:-//Winchester Frederick Clarke Republican Women - ECPv6.15.20//NONSGML v1.0//EN
CALSCALE:GREGORIAN
METHOD:PUBLISH
X-WR-CALNAME:Winchester Frederick Clarke Republican Women
X-ORIGINAL-URL:https://wfcrw.org
X-WR-CALDESC:Events for Winchester Frederick Clarke Republican Women
REFRESH-INTERVAL;VALUE=DURATION:PT1H
X-Robots-Tag:noindex
X-PUBLISHED-TTL:PT1H
BEGIN:VTIMEZONE
TZID:America/Halifax
BEGIN:DAYLIGHT
TZOFFSETFROM:-0400
TZOFFSETTO:-0300
TZNAME:ADT
DTSTART:20250309T060000
END:DAYLIGHT
BEGIN:STANDARD
TZOFFSETFROM:-0300
TZOFFSETTO:-0400
TZNAME:AST
DTSTART:20251102T050000
END:STANDARD
BEGIN:DAYLIGHT
TZOFFSETFROM:-0400
TZOFFSETTO:-0300
TZNAME:ADT
DTSTART:20260308T060000
END:DAYLIGHT
BEGIN:STANDARD
TZOFFSETFROM:-0300
TZOFFSETTO:-0400
TZNAME:AST
DTSTART:20261101T050000
END:STANDARD
BEGIN:DAYLIGHT
TZOFFSETFROM:-0400
TZOFFSETTO:-0300
TZNAME:ADT
DTSTART:20270314T060000
END:DAYLIGHT
BEGIN:STANDARD
TZOFFSETFROM:-0300
TZOFFSETTO:-0400
TZNAME:AST
DTSTART:20271107T050000
END:STANDARD
BEGIN:DAYLIGHT
TZOFFSETFROM:-0400
TZOFFSETTO:-0300
TZNAME:ADT
DTSTART:20280312T060000
END:DAYLIGHT
BEGIN:STANDARD
TZOFFSETFROM:-0300
TZOFFSETTO:-0400
TZNAME:AST
DTSTART:20281105T050000
END:STANDARD
BEGIN:DAYLIGHT
TZOFFSETFROM:-0400
TZOFFSETTO:-0300
TZNAME:ADT
DTSTART:20290311T060000
END:DAYLIGHT
BEGIN:STANDARD
TZOFFSETFROM:-0300
TZOFFSETTO:-0400
TZNAME:AST
DTSTART:20291104T050000
END:STANDARD
END:VTIMEZONE
BEGIN:VEVENT
DTSTART;TZID=America/Halifax:20260427T180000
DTEND;TZID=America/Halifax:20260427T180000
DTSTAMP:20260421T095613
CREATED:20231019T210753Z
LAST-MODIFIED:20231019T210753Z
UID:10000423-1777312800-1777312800@wfcrw.org
SUMMARY:Winchester City School Board Meeting
DESCRIPTION:If you want to use your voice as a parent\, citizen\, or taxpayer or stay up to date on everything happening with Winchester City Public Schools consider attending the Winchester City School Board meetings! They happen on the 4th Monday of each month.
URL:https://wfcrw.org/event/winchester-city-school-board-meeting/2026-04-27/
LOCATION:Douglas School Central Administration Office\, 598 N Kent St\, Winchester\, VA\, 22601\, United States
END:VEVENT
BEGIN:VEVENT
DTSTART;TZID=America/Halifax:20260525T180000
DTEND;TZID=America/Halifax:20260525T180000
DTSTAMP:20260421T095613
CREATED:20231019T210753Z
LAST-MODIFIED:20231019T210753Z
UID:10000424-1779732000-1779732000@wfcrw.org
SUMMARY:Winchester City School Board Meeting
DESCRIPTION:If you want to use your voice as a parent\, citizen\, or taxpayer or stay up to date on everything happening with Winchester City Public Schools consider attending the Winchester City School Board meetings! They happen on the 4th Monday of each month.
URL:https://wfcrw.org/event/winchester-city-school-board-meeting/2026-05-25/
LOCATION:Douglas School Central Administration Office\, 598 N Kent St\, Winchester\, VA\, 22601\, United States
END:VEVENT
BEGIN:VEVENT
DTSTART;TZID=America/Halifax:20260622T180000
DTEND;TZID=America/Halifax:20260622T180000
DTSTAMP:20260421T095613
CREATED:20231019T210753Z
LAST-MODIFIED:20231019T210753Z
UID:10000425-1782151200-1782151200@wfcrw.org
SUMMARY:Winchester City School Board Meeting
DESCRIPTION:If you want to use your voice as a parent\, citizen\, or taxpayer or stay up to date on everything happening with Winchester City Public Schools consider attending the Winchester City School Board meetings! They happen on the 4th Monday of each month.
URL:https://wfcrw.org/event/winchester-city-school-board-meeting/2026-06-22/
LOCATION:Douglas School Central Administration Office\, 598 N Kent St\, Winchester\, VA\, 22601\, United States
END:VEVENT
BEGIN:VEVENT
DTSTART;TZID=America/Halifax:20260727T180000
DTEND;TZID=America/Halifax:20260727T180000
DTSTAMP:20260421T095613
CREATED:20231019T210753Z
LAST-MODIFIED:20231019T210753Z
UID:10000426-1785175200-1785175200@wfcrw.org
SUMMARY:Winchester City School Board Meeting
DESCRIPTION:If you want to use your voice as a parent\, citizen\, or taxpayer or stay up to date on everything happening with Winchester City Public Schools consider attending the Winchester City School Board meetings! They happen on the 4th Monday of each month.
URL:https://wfcrw.org/event/winchester-city-school-board-meeting/2026-07-27/
LOCATION:Douglas School Central Administration Office\, 598 N Kent St\, Winchester\, VA\, 22601\, United States
END:VEVENT
BEGIN:VEVENT
DTSTART;TZID=America/Halifax:20260824T180000
DTEND;TZID=America/Halifax:20260824T180000
DTSTAMP:20260421T095613
CREATED:20231019T210753Z
LAST-MODIFIED:20231019T210753Z
UID:10000427-1787594400-1787594400@wfcrw.org
SUMMARY:Winchester City School Board Meeting
DESCRIPTION:If you want to use your voice as a parent\, citizen\, or taxpayer or stay up to date on everything happening with Winchester City Public Schools consider attending the Winchester City School Board meetings! They happen on the 4th Monday of each month.
URL:https://wfcrw.org/event/winchester-city-school-board-meeting/2026-08-24/
LOCATION:Douglas School Central Administration Office\, 598 N Kent St\, Winchester\, VA\, 22601\, United States
END:VEVENT
BEGIN:VEVENT
DTSTART;TZID=America/Halifax:20260928T180000
DTEND;TZID=America/Halifax:20260928T180000
DTSTAMP:20260421T095613
CREATED:20231019T210753Z
LAST-MODIFIED:20231019T210753Z
UID:10000428-1790618400-1790618400@wfcrw.org
SUMMARY:Winchester City School Board Meeting
DESCRIPTION:If you want to use your voice as a parent\, citizen\, or taxpayer or stay up to date on everything happening with Winchester City Public Schools consider attending the Winchester City School Board meetings! They happen on the 4th Monday of each month.
URL:https://wfcrw.org/event/winchester-city-school-board-meeting/2026-09-28/
LOCATION:Douglas School Central Administration Office\, 598 N Kent St\, Winchester\, VA\, 22601\, United States
END:VEVENT
BEGIN:VEVENT
DTSTART;TZID=America/Halifax:20261026T180000
DTEND;TZID=America/Halifax:20261026T180000
DTSTAMP:20260421T095613
CREATED:20231019T210753Z
LAST-MODIFIED:20231019T210753Z
UID:10000429-1793037600-1793037600@wfcrw.org
SUMMARY:Winchester City School Board Meeting
DESCRIPTION:If you want to use your voice as a parent\, citizen\, or taxpayer or stay up to date on everything happening with Winchester City Public Schools consider attending the Winchester City School Board meetings! They happen on the 4th Monday of each month.
URL:https://wfcrw.org/event/winchester-city-school-board-meeting/2026-10-26/
LOCATION:Douglas School Central Administration Office\, 598 N Kent St\, Winchester\, VA\, 22601\, United States
END:VEVENT
BEGIN:VEVENT
DTSTART;TZID=America/Halifax:20261123T180000
DTEND;TZID=America/Halifax:20261123T180000
DTSTAMP:20260421T095614
CREATED:20231019T210753Z
LAST-MODIFIED:20231019T210753Z
UID:10000430-1795456800-1795456800@wfcrw.org
SUMMARY:Winchester City School Board Meeting
DESCRIPTION:If you want to use your voice as a parent\, citizen\, or taxpayer or stay up to date on everything happening with Winchester City Public Schools consider attending the Winchester City School Board meetings! They happen on the 4th Monday of each month.
URL:https://wfcrw.org/event/winchester-city-school-board-meeting/2026-11-23/
LOCATION:Douglas School Central Administration Office\, 598 N Kent St\, Winchester\, VA\, 22601\, United States
END:VEVENT
BEGIN:VEVENT
DTSTART;TZID=America/Halifax:20261228T180000
DTEND;TZID=America/Halifax:20261228T180000
DTSTAMP:20260421T095614
CREATED:20231019T210753Z
LAST-MODIFIED:20231019T210753Z
UID:10000431-1798480800-1798480800@wfcrw.org
SUMMARY:Winchester City School Board Meeting
DESCRIPTION:If you want to use your voice as a parent\, citizen\, or taxpayer or stay up to date on everything happening with Winchester City Public Schools consider attending the Winchester City School Board meetings! They happen on the 4th Monday of each month.
URL:https://wfcrw.org/event/winchester-city-school-board-meeting/2026-12-28/
LOCATION:Douglas School Central Administration Office\, 598 N Kent St\, Winchester\, VA\, 22601\, United States
END:VEVENT
BEGIN:VEVENT
DTSTART;TZID=America/Halifax:20270125T180000
DTEND;TZID=America/Halifax:20270125T180000
DTSTAMP:20260421T095614
CREATED:20231019T210753Z
LAST-MODIFIED:20231019T210753Z
UID:10000432-1800900000-1800900000@wfcrw.org
SUMMARY:Winchester City School Board Meeting
DESCRIPTION:If you want to use your voice as a parent\, citizen\, or taxpayer or stay up to date on everything happening with Winchester City Public Schools consider attending the Winchester City School Board meetings! They happen on the 4th Monday of each month.
URL:https://wfcrw.org/event/winchester-city-school-board-meeting/2027-01-25/
LOCATION:Douglas School Central Administration Office\, 598 N Kent St\, Winchester\, VA\, 22601\, United States
END:VEVENT
BEGIN:VEVENT
DTSTART;TZID=America/Halifax:20270222T180000
DTEND;TZID=America/Halifax:20270222T180000
DTSTAMP:20260421T095614
CREATED:20231019T210753Z
LAST-MODIFIED:20231019T210753Z
UID:10000433-1803319200-1803319200@wfcrw.org
SUMMARY:Winchester City School Board Meeting
DESCRIPTION:If you want to use your voice as a parent\, citizen\, or taxpayer or stay up to date on everything happening with Winchester City Public Schools consider attending the Winchester City School Board meetings! They happen on the 4th Monday of each month.
URL:https://wfcrw.org/event/winchester-city-school-board-meeting/2027-02-22/
LOCATION:Douglas School Central Administration Office\, 598 N Kent St\, Winchester\, VA\, 22601\, United States
END:VEVENT
BEGIN:VEVENT
DTSTART;TZID=America/Halifax:20270322T180000
DTEND;TZID=America/Halifax:20270322T180000
DTSTAMP:20260421T095614
CREATED:20231019T210753Z
LAST-MODIFIED:20231019T210753Z
UID:10000434-1805738400-1805738400@wfcrw.org
SUMMARY:Winchester City School Board Meeting
DESCRIPTION:If you want to use your voice as a parent\, citizen\, or taxpayer or stay up to date on everything happening with Winchester City Public Schools consider attending the Winchester City School Board meetings! They happen on the 4th Monday of each month.
URL:https://wfcrw.org/event/winchester-city-school-board-meeting/2027-03-22/
LOCATION:Douglas School Central Administration Office\, 598 N Kent St\, Winchester\, VA\, 22601\, United States
END:VEVENT
BEGIN:VEVENT
DTSTART;TZID=America/Halifax:20270426T180000
DTEND;TZID=America/Halifax:20270426T180000
DTSTAMP:20260421T095614
CREATED:20231019T210753Z
LAST-MODIFIED:20231019T210753Z
UID:10000435-1808762400-1808762400@wfcrw.org
SUMMARY:Winchester City School Board Meeting
DESCRIPTION:If you want to use your voice as a parent\, citizen\, or taxpayer or stay up to date on everything happening with Winchester City Public Schools consider attending the Winchester City School Board meetings! They happen on the 4th Monday of each month.
URL:https://wfcrw.org/event/winchester-city-school-board-meeting/2027-04-26/
LOCATION:Douglas School Central Administration Office\, 598 N Kent St\, Winchester\, VA\, 22601\, United States
END:VEVENT
BEGIN:VEVENT
DTSTART;TZID=America/Halifax:20270524T180000
DTEND;TZID=America/Halifax:20270524T180000
DTSTAMP:20260421T095614
CREATED:20231019T210753Z
LAST-MODIFIED:20231019T210753Z
UID:10000436-1811181600-1811181600@wfcrw.org
SUMMARY:Winchester City School Board Meeting
DESCRIPTION:If you want to use your voice as a parent\, citizen\, or taxpayer or stay up to date on everything happening with Winchester City Public Schools consider attending the Winchester City School Board meetings! They happen on the 4th Monday of each month.
URL:https://wfcrw.org/event/winchester-city-school-board-meeting/2027-05-24/
LOCATION:Douglas School Central Administration Office\, 598 N Kent St\, Winchester\, VA\, 22601\, United States
END:VEVENT
BEGIN:VEVENT
DTSTART;TZID=America/Halifax:20270628T180000
DTEND;TZID=America/Halifax:20270628T180000
DTSTAMP:20260421T095614
CREATED:20231019T210753Z
LAST-MODIFIED:20231019T210753Z
UID:10000437-1814205600-1814205600@wfcrw.org
SUMMARY:Winchester City School Board Meeting
DESCRIPTION:If you want to use your voice as a parent\, citizen\, or taxpayer or stay up to date on everything happening with Winchester City Public Schools consider attending the Winchester City School Board meetings! They happen on the 4th Monday of each month.
URL:https://wfcrw.org/event/winchester-city-school-board-meeting/2027-06-28/
LOCATION:Douglas School Central Administration Office\, 598 N Kent St\, Winchester\, VA\, 22601\, United States
END:VEVENT
BEGIN:VEVENT
DTSTART;TZID=America/Halifax:20270726T180000
DTEND;TZID=America/Halifax:20270726T180000
DTSTAMP:20260421T095614
CREATED:20231019T210753Z
LAST-MODIFIED:20231019T210753Z
UID:10000438-1816624800-1816624800@wfcrw.org
SUMMARY:Winchester City School Board Meeting
DESCRIPTION:If you want to use your voice as a parent\, citizen\, or taxpayer or stay up to date on everything happening with Winchester City Public Schools consider attending the Winchester City School Board meetings! They happen on the 4th Monday of each month.
URL:https://wfcrw.org/event/winchester-city-school-board-meeting/2027-07-26/
LOCATION:Douglas School Central Administration Office\, 598 N Kent St\, Winchester\, VA\, 22601\, United States
END:VEVENT
BEGIN:VEVENT
DTSTART;TZID=America/Halifax:20270823T180000
DTEND;TZID=America/Halifax:20270823T180000
DTSTAMP:20260421T095614
CREATED:20231019T210753Z
LAST-MODIFIED:20231019T210753Z
UID:10000439-1819044000-1819044000@wfcrw.org
SUMMARY:Winchester City School Board Meeting
DESCRIPTION:If you want to use your voice as a parent\, citizen\, or taxpayer or stay up to date on everything happening with Winchester City Public Schools consider attending the Winchester City School Board meetings! They happen on the 4th Monday of each month.
URL:https://wfcrw.org/event/winchester-city-school-board-meeting/2027-08-23/
LOCATION:Douglas School Central Administration Office\, 598 N Kent St\, Winchester\, VA\, 22601\, United States
END:VEVENT
BEGIN:VEVENT
DTSTART;TZID=America/Halifax:20270927T180000
DTEND;TZID=America/Halifax:20270927T180000
DTSTAMP:20260421T095614
CREATED:20231019T210753Z
LAST-MODIFIED:20231019T210753Z
UID:10000440-1822068000-1822068000@wfcrw.org
SUMMARY:Winchester City School Board Meeting
DESCRIPTION:If you want to use your voice as a parent\, citizen\, or taxpayer or stay up to date on everything happening with Winchester City Public Schools consider attending the Winchester City School Board meetings! They happen on the 4th Monday of each month.
URL:https://wfcrw.org/event/winchester-city-school-board-meeting/2027-09-27/
LOCATION:Douglas School Central Administration Office\, 598 N Kent St\, Winchester\, VA\, 22601\, United States
END:VEVENT
BEGIN:VEVENT
DTSTART;TZID=America/Halifax:20271025T180000
DTEND;TZID=America/Halifax:20271025T180000
DTSTAMP:20260421T095614
CREATED:20231019T210753Z
LAST-MODIFIED:20231019T210753Z
UID:10000441-1824487200-1824487200@wfcrw.org
SUMMARY:Winchester City School Board Meeting
DESCRIPTION:If you want to use your voice as a parent\, citizen\, or taxpayer or stay up to date on everything happening with Winchester City Public Schools consider attending the Winchester City School Board meetings! They happen on the 4th Monday of each month.
URL:https://wfcrw.org/event/winchester-city-school-board-meeting/2027-10-25/
LOCATION:Douglas School Central Administration Office\, 598 N Kent St\, Winchester\, VA\, 22601\, United States
END:VEVENT
BEGIN:VEVENT
DTSTART;TZID=America/Halifax:20271122T180000
DTEND;TZID=America/Halifax:20271122T180000
DTSTAMP:20260421T095614
CREATED:20231019T210753Z
LAST-MODIFIED:20231019T210753Z
UID:10000442-1826906400-1826906400@wfcrw.org
SUMMARY:Winchester City School Board Meeting
DESCRIPTION:If you want to use your voice as a parent\, citizen\, or taxpayer or stay up to date on everything happening with Winchester City Public Schools consider attending the Winchester City School Board meetings! They happen on the 4th Monday of each month.
URL:https://wfcrw.org/event/winchester-city-school-board-meeting/2027-11-22/
LOCATION:Douglas School Central Administration Office\, 598 N Kent St\, Winchester\, VA\, 22601\, United States
END:VEVENT
BEGIN:VEVENT
DTSTART;TZID=America/Halifax:20271227T180000
DTEND;TZID=America/Halifax:20271227T180000
DTSTAMP:20260421T095614
CREATED:20231019T210753Z
LAST-MODIFIED:20231019T210753Z
UID:10000443-1829930400-1829930400@wfcrw.org
SUMMARY:Winchester City School Board Meeting
DESCRIPTION:If you want to use your voice as a parent\, citizen\, or taxpayer or stay up to date on everything happening with Winchester City Public Schools consider attending the Winchester City School Board meetings! They happen on the 4th Monday of each month.
URL:https://wfcrw.org/event/winchester-city-school-board-meeting/2027-12-27/
LOCATION:Douglas School Central Administration Office\, 598 N Kent St\, Winchester\, VA\, 22601\, United States
END:VEVENT
BEGIN:VEVENT
DTSTART;TZID=America/Halifax:20280124T180000
DTEND;TZID=America/Halifax:20280124T180000
DTSTAMP:20260421T095614
CREATED:20231019T210753Z
LAST-MODIFIED:20231019T210753Z
UID:10000444-1832349600-1832349600@wfcrw.org
SUMMARY:Winchester City School Board Meeting
DESCRIPTION:If you want to use your voice as a parent\, citizen\, or taxpayer or stay up to date on everything happening with Winchester City Public Schools consider attending the Winchester City School Board meetings! They happen on the 4th Monday of each month.
URL:https://wfcrw.org/event/winchester-city-school-board-meeting/2028-01-24/
LOCATION:Douglas School Central Administration Office\, 598 N Kent St\, Winchester\, VA\, 22601\, United States
END:VEVENT
BEGIN:VEVENT
DTSTART;TZID=America/Halifax:20280228T180000
DTEND;TZID=America/Halifax:20280228T180000
DTSTAMP:20260421T095614
CREATED:20231019T210753Z
LAST-MODIFIED:20231019T210753Z
UID:10000445-1835373600-1835373600@wfcrw.org
SUMMARY:Winchester City School Board Meeting
DESCRIPTION:If you want to use your voice as a parent\, citizen\, or taxpayer or stay up to date on everything happening with Winchester City Public Schools consider attending the Winchester City School Board meetings! They happen on the 4th Monday of each month.
URL:https://wfcrw.org/event/winchester-city-school-board-meeting/2028-02-28/
LOCATION:Douglas School Central Administration Office\, 598 N Kent St\, Winchester\, VA\, 22601\, United States
END:VEVENT
BEGIN:VEVENT
DTSTART;TZID=America/Halifax:20280327T180000
DTEND;TZID=America/Halifax:20280327T180000
DTSTAMP:20260421T095614
CREATED:20231019T210753Z
LAST-MODIFIED:20231019T210753Z
UID:10000446-1837792800-1837792800@wfcrw.org
SUMMARY:Winchester City School Board Meeting
DESCRIPTION:If you want to use your voice as a parent\, citizen\, or taxpayer or stay up to date on everything happening with Winchester City Public Schools consider attending the Winchester City School Board meetings! They happen on the 4th Monday of each month.
URL:https://wfcrw.org/event/winchester-city-school-board-meeting/2028-03-27/
LOCATION:Douglas School Central Administration Office\, 598 N Kent St\, Winchester\, VA\, 22601\, United States
END:VEVENT
BEGIN:VEVENT
DTSTART;TZID=America/Halifax:20280424T180000
DTEND;TZID=America/Halifax:20280424T180000
DTSTAMP:20260421T095614
CREATED:20231019T210753Z
LAST-MODIFIED:20231019T210753Z
UID:10000447-1840212000-1840212000@wfcrw.org
SUMMARY:Winchester City School Board Meeting
DESCRIPTION:If you want to use your voice as a parent\, citizen\, or taxpayer or stay up to date on everything happening with Winchester City Public Schools consider attending the Winchester City School Board meetings! They happen on the 4th Monday of each month.
URL:https://wfcrw.org/event/winchester-city-school-board-meeting/2028-04-24/
LOCATION:Douglas School Central Administration Office\, 598 N Kent St\, Winchester\, VA\, 22601\, United States
END:VEVENT
BEGIN:VEVENT
DTSTART;TZID=America/Halifax:20280522T180000
DTEND;TZID=America/Halifax:20280522T180000
DTSTAMP:20260421T095614
CREATED:20231019T210753Z
LAST-MODIFIED:20231019T210753Z
UID:10000448-1842631200-1842631200@wfcrw.org
SUMMARY:Winchester City School Board Meeting
DESCRIPTION:If you want to use your voice as a parent\, citizen\, or taxpayer or stay up to date on everything happening with Winchester City Public Schools consider attending the Winchester City School Board meetings! They happen on the 4th Monday of each month.
URL:https://wfcrw.org/event/winchester-city-school-board-meeting/2028-05-22/
LOCATION:Douglas School Central Administration Office\, 598 N Kent St\, Winchester\, VA\, 22601\, United States
END:VEVENT
BEGIN:VEVENT
DTSTART;TZID=America/Halifax:20280626T180000
DTEND;TZID=America/Halifax:20280626T180000
DTSTAMP:20260421T095614
CREATED:20231019T210753Z
LAST-MODIFIED:20231019T210753Z
UID:10000449-1845655200-1845655200@wfcrw.org
SUMMARY:Winchester City School Board Meeting
DESCRIPTION:If you want to use your voice as a parent\, citizen\, or taxpayer or stay up to date on everything happening with Winchester City Public Schools consider attending the Winchester City School Board meetings! They happen on the 4th Monday of each month.
URL:https://wfcrw.org/event/winchester-city-school-board-meeting/2028-06-26/
LOCATION:Douglas School Central Administration Office\, 598 N Kent St\, Winchester\, VA\, 22601\, United States
END:VEVENT
BEGIN:VEVENT
DTSTART;TZID=America/Halifax:20280724T180000
DTEND;TZID=America/Halifax:20280724T180000
DTSTAMP:20260421T095614
CREATED:20231019T210753Z
LAST-MODIFIED:20231019T210753Z
UID:10000450-1848074400-1848074400@wfcrw.org
SUMMARY:Winchester City School Board Meeting
DESCRIPTION:If you want to use your voice as a parent\, citizen\, or taxpayer or stay up to date on everything happening with Winchester City Public Schools consider attending the Winchester City School Board meetings! They happen on the 4th Monday of each month.
URL:https://wfcrw.org/event/winchester-city-school-board-meeting/2028-07-24/
LOCATION:Douglas School Central Administration Office\, 598 N Kent St\, Winchester\, VA\, 22601\, United States
END:VEVENT
BEGIN:VEVENT
DTSTART;TZID=America/Halifax:20280828T180000
DTEND;TZID=America/Halifax:20280828T180000
DTSTAMP:20260421T095614
CREATED:20231019T210753Z
LAST-MODIFIED:20231019T210753Z
UID:10000451-1851098400-1851098400@wfcrw.org
SUMMARY:Winchester City School Board Meeting
DESCRIPTION:If you want to use your voice as a parent\, citizen\, or taxpayer or stay up to date on everything happening with Winchester City Public Schools consider attending the Winchester City School Board meetings! They happen on the 4th Monday of each month.
URL:https://wfcrw.org/event/winchester-city-school-board-meeting/2028-08-28/
LOCATION:Douglas School Central Administration Office\, 598 N Kent St\, Winchester\, VA\, 22601\, United States
END:VEVENT
BEGIN:VEVENT
DTSTART;TZID=America/Halifax:20280925T180000
DTEND;TZID=America/Halifax:20280925T180000
DTSTAMP:20260421T095614
CREATED:20231019T210753Z
LAST-MODIFIED:20231019T210753Z
UID:10000452-1853517600-1853517600@wfcrw.org
SUMMARY:Winchester City School Board Meeting
DESCRIPTION:If you want to use your voice as a parent\, citizen\, or taxpayer or stay up to date on everything happening with Winchester City Public Schools consider attending the Winchester City School Board meetings! They happen on the 4th Monday of each month.
URL:https://wfcrw.org/event/winchester-city-school-board-meeting/2028-09-25/
LOCATION:Douglas School Central Administration Office\, 598 N Kent St\, Winchester\, VA\, 22601\, United States
END:VEVENT
END:VCALENDAR