BEGIN:VCALENDAR
VERSION:2.0
PRODID:-//Winchester Frederick Clarke Republican Women - ECPv6.15.20//NONSGML v1.0//EN
CALSCALE:GREGORIAN
METHOD:PUBLISH
X-WR-CALNAME:Winchester Frederick Clarke Republican Women
X-ORIGINAL-URL:https://wfcrw.org
X-WR-CALDESC:Events for Winchester Frederick Clarke Republican Women
REFRESH-INTERVAL;VALUE=DURATION:PT1H
X-Robots-Tag:noindex
X-PUBLISHED-TTL:PT1H
BEGIN:VTIMEZONE
TZID:America/Halifax
BEGIN:DAYLIGHT
TZOFFSETFROM:-0400
TZOFFSETTO:-0300
TZNAME:ADT
DTSTART:20250309T060000
END:DAYLIGHT
BEGIN:STANDARD
TZOFFSETFROM:-0300
TZOFFSETTO:-0400
TZNAME:AST
DTSTART:20251102T050000
END:STANDARD
BEGIN:DAYLIGHT
TZOFFSETFROM:-0400
TZOFFSETTO:-0300
TZNAME:ADT
DTSTART:20260308T060000
END:DAYLIGHT
BEGIN:STANDARD
TZOFFSETFROM:-0300
TZOFFSETTO:-0400
TZNAME:AST
DTSTART:20261101T050000
END:STANDARD
BEGIN:DAYLIGHT
TZOFFSETFROM:-0400
TZOFFSETTO:-0300
TZNAME:ADT
DTSTART:20270314T060000
END:DAYLIGHT
BEGIN:STANDARD
TZOFFSETFROM:-0300
TZOFFSETTO:-0400
TZNAME:AST
DTSTART:20271107T050000
END:STANDARD
BEGIN:DAYLIGHT
TZOFFSETFROM:-0400
TZOFFSETTO:-0300
TZNAME:ADT
DTSTART:20280312T060000
END:DAYLIGHT
BEGIN:STANDARD
TZOFFSETFROM:-0300
TZOFFSETTO:-0400
TZNAME:AST
DTSTART:20281105T050000
END:STANDARD
BEGIN:DAYLIGHT
TZOFFSETFROM:-0400
TZOFFSETTO:-0300
TZNAME:ADT
DTSTART:20290311T060000
END:DAYLIGHT
BEGIN:STANDARD
TZOFFSETFROM:-0300
TZOFFSETTO:-0400
TZNAME:AST
DTSTART:20291104T050000
END:STANDARD
END:VTIMEZONE
BEGIN:VEVENT
DTSTART;TZID=America/Halifax:20260428T180000
DTEND;TZID=America/Halifax:20260428T190000
DTSTAMP:20260421T095552
CREATED:20231019T210037Z
LAST-MODIFIED:20231019T210037Z
UID:10000303-1777399200-1777402800@wfcrw.org
SUMMARY:Winchester City Council Meeting
DESCRIPTION:If you want to use your voice as a citizen and taxpayer or stay up to date on everything happening with Winchester City government\, consider attending the Winchester City Council meetings! They happen on the 2nd and 4th Tuesdays of each month.
URL:https://wfcrw.org/event/winchester-city-council-meeting/2026-04-28/
LOCATION:Rouss City Hall\, 15 North Cameron Street\, Winchester\, VA\, 22601\, United States
END:VEVENT
BEGIN:VEVENT
DTSTART;TZID=America/Halifax:20260526T180000
DTEND;TZID=America/Halifax:20260526T190000
DTSTAMP:20260421T095552
CREATED:20231019T210037Z
LAST-MODIFIED:20231019T210037Z
UID:10000304-1779818400-1779822000@wfcrw.org
SUMMARY:Winchester City Council Meeting
DESCRIPTION:If you want to use your voice as a citizen and taxpayer or stay up to date on everything happening with Winchester City government\, consider attending the Winchester City Council meetings! They happen on the 2nd and 4th Tuesdays of each month.
URL:https://wfcrw.org/event/winchester-city-council-meeting/2026-05-26/
LOCATION:Rouss City Hall\, 15 North Cameron Street\, Winchester\, VA\, 22601\, United States
END:VEVENT
BEGIN:VEVENT
DTSTART;TZID=America/Halifax:20260623T180000
DTEND;TZID=America/Halifax:20260623T190000
DTSTAMP:20260421T095552
CREATED:20231019T210037Z
LAST-MODIFIED:20231019T210037Z
UID:10000305-1782237600-1782241200@wfcrw.org
SUMMARY:Winchester City Council Meeting
DESCRIPTION:If you want to use your voice as a citizen and taxpayer or stay up to date on everything happening with Winchester City government\, consider attending the Winchester City Council meetings! They happen on the 2nd and 4th Tuesdays of each month.
URL:https://wfcrw.org/event/winchester-city-council-meeting/2026-06-23/
LOCATION:Rouss City Hall\, 15 North Cameron Street\, Winchester\, VA\, 22601\, United States
END:VEVENT
BEGIN:VEVENT
DTSTART;TZID=America/Halifax:20260728T180000
DTEND;TZID=America/Halifax:20260728T190000
DTSTAMP:20260421T095552
CREATED:20231019T210037Z
LAST-MODIFIED:20231019T210037Z
UID:10000306-1785261600-1785265200@wfcrw.org
SUMMARY:Winchester City Council Meeting
DESCRIPTION:If you want to use your voice as a citizen and taxpayer or stay up to date on everything happening with Winchester City government\, consider attending the Winchester City Council meetings! They happen on the 2nd and 4th Tuesdays of each month.
URL:https://wfcrw.org/event/winchester-city-council-meeting/2026-07-28/
LOCATION:Rouss City Hall\, 15 North Cameron Street\, Winchester\, VA\, 22601\, United States
END:VEVENT
BEGIN:VEVENT
DTSTART;TZID=America/Halifax:20260825T180000
DTEND;TZID=America/Halifax:20260825T190000
DTSTAMP:20260421T095552
CREATED:20231019T210037Z
LAST-MODIFIED:20231019T210037Z
UID:10000307-1787680800-1787684400@wfcrw.org
SUMMARY:Winchester City Council Meeting
DESCRIPTION:If you want to use your voice as a citizen and taxpayer or stay up to date on everything happening with Winchester City government\, consider attending the Winchester City Council meetings! They happen on the 2nd and 4th Tuesdays of each month.
URL:https://wfcrw.org/event/winchester-city-council-meeting/2026-08-25/
LOCATION:Rouss City Hall\, 15 North Cameron Street\, Winchester\, VA\, 22601\, United States
END:VEVENT
BEGIN:VEVENT
DTSTART;TZID=America/Halifax:20260922T180000
DTEND;TZID=America/Halifax:20260922T190000
DTSTAMP:20260421T095552
CREATED:20231019T210037Z
LAST-MODIFIED:20231019T210037Z
UID:10000308-1790100000-1790103600@wfcrw.org
SUMMARY:Winchester City Council Meeting
DESCRIPTION:If you want to use your voice as a citizen and taxpayer or stay up to date on everything happening with Winchester City government\, consider attending the Winchester City Council meetings! They happen on the 2nd and 4th Tuesdays of each month.
URL:https://wfcrw.org/event/winchester-city-council-meeting/2026-09-22/
LOCATION:Rouss City Hall\, 15 North Cameron Street\, Winchester\, VA\, 22601\, United States
END:VEVENT
BEGIN:VEVENT
DTSTART;TZID=America/Halifax:20261027T180000
DTEND;TZID=America/Halifax:20261027T190000
DTSTAMP:20260421T095552
CREATED:20231019T210037Z
LAST-MODIFIED:20231019T210037Z
UID:10000309-1793124000-1793127600@wfcrw.org
SUMMARY:Winchester City Council Meeting
DESCRIPTION:If you want to use your voice as a citizen and taxpayer or stay up to date on everything happening with Winchester City government\, consider attending the Winchester City Council meetings! They happen on the 2nd and 4th Tuesdays of each month.
URL:https://wfcrw.org/event/winchester-city-council-meeting/2026-10-27/
LOCATION:Rouss City Hall\, 15 North Cameron Street\, Winchester\, VA\, 22601\, United States
END:VEVENT
BEGIN:VEVENT
DTSTART;TZID=America/Halifax:20261124T180000
DTEND;TZID=America/Halifax:20261124T190000
DTSTAMP:20260421T095552
CREATED:20231019T210037Z
LAST-MODIFIED:20231019T210037Z
UID:10000310-1795543200-1795546800@wfcrw.org
SUMMARY:Winchester City Council Meeting
DESCRIPTION:If you want to use your voice as a citizen and taxpayer or stay up to date on everything happening with Winchester City government\, consider attending the Winchester City Council meetings! They happen on the 2nd and 4th Tuesdays of each month.
URL:https://wfcrw.org/event/winchester-city-council-meeting/2026-11-24/
LOCATION:Rouss City Hall\, 15 North Cameron Street\, Winchester\, VA\, 22601\, United States
END:VEVENT
BEGIN:VEVENT
DTSTART;TZID=America/Halifax:20261222T180000
DTEND;TZID=America/Halifax:20261222T190000
DTSTAMP:20260421T095552
CREATED:20231019T210037Z
LAST-MODIFIED:20231019T210037Z
UID:10000311-1797962400-1797966000@wfcrw.org
SUMMARY:Winchester City Council Meeting
DESCRIPTION:If you want to use your voice as a citizen and taxpayer or stay up to date on everything happening with Winchester City government\, consider attending the Winchester City Council meetings! They happen on the 2nd and 4th Tuesdays of each month.
URL:https://wfcrw.org/event/winchester-city-council-meeting/2026-12-22/
LOCATION:Rouss City Hall\, 15 North Cameron Street\, Winchester\, VA\, 22601\, United States
END:VEVENT
BEGIN:VEVENT
DTSTART;TZID=America/Halifax:20270126T180000
DTEND;TZID=America/Halifax:20270126T190000
DTSTAMP:20260421T095552
CREATED:20231019T210037Z
LAST-MODIFIED:20231019T210037Z
UID:10000312-1800986400-1800990000@wfcrw.org
SUMMARY:Winchester City Council Meeting
DESCRIPTION:If you want to use your voice as a citizen and taxpayer or stay up to date on everything happening with Winchester City government\, consider attending the Winchester City Council meetings! They happen on the 2nd and 4th Tuesdays of each month.
URL:https://wfcrw.org/event/winchester-city-council-meeting/2027-01-26/
LOCATION:Rouss City Hall\, 15 North Cameron Street\, Winchester\, VA\, 22601\, United States
END:VEVENT
BEGIN:VEVENT
DTSTART;TZID=America/Halifax:20270223T180000
DTEND;TZID=America/Halifax:20270223T190000
DTSTAMP:20260421T095552
CREATED:20231019T210037Z
LAST-MODIFIED:20231019T210037Z
UID:10000313-1803405600-1803409200@wfcrw.org
SUMMARY:Winchester City Council Meeting
DESCRIPTION:If you want to use your voice as a citizen and taxpayer or stay up to date on everything happening with Winchester City government\, consider attending the Winchester City Council meetings! They happen on the 2nd and 4th Tuesdays of each month.
URL:https://wfcrw.org/event/winchester-city-council-meeting/2027-02-23/
LOCATION:Rouss City Hall\, 15 North Cameron Street\, Winchester\, VA\, 22601\, United States
END:VEVENT
BEGIN:VEVENT
DTSTART;TZID=America/Halifax:20270323T180000
DTEND;TZID=America/Halifax:20270323T190000
DTSTAMP:20260421T095552
CREATED:20231019T210037Z
LAST-MODIFIED:20231019T210037Z
UID:10000314-1805824800-1805828400@wfcrw.org
SUMMARY:Winchester City Council Meeting
DESCRIPTION:If you want to use your voice as a citizen and taxpayer or stay up to date on everything happening with Winchester City government\, consider attending the Winchester City Council meetings! They happen on the 2nd and 4th Tuesdays of each month.
URL:https://wfcrw.org/event/winchester-city-council-meeting/2027-03-23/
LOCATION:Rouss City Hall\, 15 North Cameron Street\, Winchester\, VA\, 22601\, United States
END:VEVENT
BEGIN:VEVENT
DTSTART;TZID=America/Halifax:20270427T180000
DTEND;TZID=America/Halifax:20270427T190000
DTSTAMP:20260421T095552
CREATED:20231019T210037Z
LAST-MODIFIED:20231019T210037Z
UID:10000315-1808848800-1808852400@wfcrw.org
SUMMARY:Winchester City Council Meeting
DESCRIPTION:If you want to use your voice as a citizen and taxpayer or stay up to date on everything happening with Winchester City government\, consider attending the Winchester City Council meetings! They happen on the 2nd and 4th Tuesdays of each month.
URL:https://wfcrw.org/event/winchester-city-council-meeting/2027-04-27/
LOCATION:Rouss City Hall\, 15 North Cameron Street\, Winchester\, VA\, 22601\, United States
END:VEVENT
BEGIN:VEVENT
DTSTART;TZID=America/Halifax:20270525T180000
DTEND;TZID=America/Halifax:20270525T190000
DTSTAMP:20260421T095552
CREATED:20231019T210037Z
LAST-MODIFIED:20231019T210037Z
UID:10000316-1811268000-1811271600@wfcrw.org
SUMMARY:Winchester City Council Meeting
DESCRIPTION:If you want to use your voice as a citizen and taxpayer or stay up to date on everything happening with Winchester City government\, consider attending the Winchester City Council meetings! They happen on the 2nd and 4th Tuesdays of each month.
URL:https://wfcrw.org/event/winchester-city-council-meeting/2027-05-25/
LOCATION:Rouss City Hall\, 15 North Cameron Street\, Winchester\, VA\, 22601\, United States
END:VEVENT
BEGIN:VEVENT
DTSTART;TZID=America/Halifax:20270622T180000
DTEND;TZID=America/Halifax:20270622T190000
DTSTAMP:20260421T095552
CREATED:20231019T210037Z
LAST-MODIFIED:20231019T210037Z
UID:10000317-1813687200-1813690800@wfcrw.org
SUMMARY:Winchester City Council Meeting
DESCRIPTION:If you want to use your voice as a citizen and taxpayer or stay up to date on everything happening with Winchester City government\, consider attending the Winchester City Council meetings! They happen on the 2nd and 4th Tuesdays of each month.
URL:https://wfcrw.org/event/winchester-city-council-meeting/2027-06-22/
LOCATION:Rouss City Hall\, 15 North Cameron Street\, Winchester\, VA\, 22601\, United States
END:VEVENT
BEGIN:VEVENT
DTSTART;TZID=America/Halifax:20270727T180000
DTEND;TZID=America/Halifax:20270727T190000
DTSTAMP:20260421T095552
CREATED:20231019T210037Z
LAST-MODIFIED:20231019T210037Z
UID:10000318-1816711200-1816714800@wfcrw.org
SUMMARY:Winchester City Council Meeting
DESCRIPTION:If you want to use your voice as a citizen and taxpayer or stay up to date on everything happening with Winchester City government\, consider attending the Winchester City Council meetings! They happen on the 2nd and 4th Tuesdays of each month.
URL:https://wfcrw.org/event/winchester-city-council-meeting/2027-07-27/
LOCATION:Rouss City Hall\, 15 North Cameron Street\, Winchester\, VA\, 22601\, United States
END:VEVENT
BEGIN:VEVENT
DTSTART;TZID=America/Halifax:20270824T180000
DTEND;TZID=America/Halifax:20270824T190000
DTSTAMP:20260421T095552
CREATED:20231019T210037Z
LAST-MODIFIED:20231019T210037Z
UID:10000319-1819130400-1819134000@wfcrw.org
SUMMARY:Winchester City Council Meeting
DESCRIPTION:If you want to use your voice as a citizen and taxpayer or stay up to date on everything happening with Winchester City government\, consider attending the Winchester City Council meetings! They happen on the 2nd and 4th Tuesdays of each month.
URL:https://wfcrw.org/event/winchester-city-council-meeting/2027-08-24/
LOCATION:Rouss City Hall\, 15 North Cameron Street\, Winchester\, VA\, 22601\, United States
END:VEVENT
BEGIN:VEVENT
DTSTART;TZID=America/Halifax:20270928T180000
DTEND;TZID=America/Halifax:20270928T190000
DTSTAMP:20260421T095552
CREATED:20231019T210037Z
LAST-MODIFIED:20231019T210037Z
UID:10000320-1822154400-1822158000@wfcrw.org
SUMMARY:Winchester City Council Meeting
DESCRIPTION:If you want to use your voice as a citizen and taxpayer or stay up to date on everything happening with Winchester City government\, consider attending the Winchester City Council meetings! They happen on the 2nd and 4th Tuesdays of each month.
URL:https://wfcrw.org/event/winchester-city-council-meeting/2027-09-28/
LOCATION:Rouss City Hall\, 15 North Cameron Street\, Winchester\, VA\, 22601\, United States
END:VEVENT
BEGIN:VEVENT
DTSTART;TZID=America/Halifax:20271026T180000
DTEND;TZID=America/Halifax:20271026T190000
DTSTAMP:20260421T095552
CREATED:20231019T210037Z
LAST-MODIFIED:20231019T210037Z
UID:10000321-1824573600-1824577200@wfcrw.org
SUMMARY:Winchester City Council Meeting
DESCRIPTION:If you want to use your voice as a citizen and taxpayer or stay up to date on everything happening with Winchester City government\, consider attending the Winchester City Council meetings! They happen on the 2nd and 4th Tuesdays of each month.
URL:https://wfcrw.org/event/winchester-city-council-meeting/2027-10-26/
LOCATION:Rouss City Hall\, 15 North Cameron Street\, Winchester\, VA\, 22601\, United States
END:VEVENT
BEGIN:VEVENT
DTSTART;TZID=America/Halifax:20271123T180000
DTEND;TZID=America/Halifax:20271123T190000
DTSTAMP:20260421T095552
CREATED:20231019T210037Z
LAST-MODIFIED:20231019T210037Z
UID:10000322-1826992800-1826996400@wfcrw.org
SUMMARY:Winchester City Council Meeting
DESCRIPTION:If you want to use your voice as a citizen and taxpayer or stay up to date on everything happening with Winchester City government\, consider attending the Winchester City Council meetings! They happen on the 2nd and 4th Tuesdays of each month.
URL:https://wfcrw.org/event/winchester-city-council-meeting/2027-11-23/
LOCATION:Rouss City Hall\, 15 North Cameron Street\, Winchester\, VA\, 22601\, United States
END:VEVENT
BEGIN:VEVENT
DTSTART;TZID=America/Halifax:20271228T180000
DTEND;TZID=America/Halifax:20271228T190000
DTSTAMP:20260421T095552
CREATED:20231019T210037Z
LAST-MODIFIED:20231019T210037Z
UID:10000323-1830016800-1830020400@wfcrw.org
SUMMARY:Winchester City Council Meeting
DESCRIPTION:If you want to use your voice as a citizen and taxpayer or stay up to date on everything happening with Winchester City government\, consider attending the Winchester City Council meetings! They happen on the 2nd and 4th Tuesdays of each month.
URL:https://wfcrw.org/event/winchester-city-council-meeting/2027-12-28/
LOCATION:Rouss City Hall\, 15 North Cameron Street\, Winchester\, VA\, 22601\, United States
END:VEVENT
BEGIN:VEVENT
DTSTART;TZID=America/Halifax:20280125T180000
DTEND;TZID=America/Halifax:20280125T190000
DTSTAMP:20260421T095552
CREATED:20231019T210037Z
LAST-MODIFIED:20231019T210037Z
UID:10000324-1832436000-1832439600@wfcrw.org
SUMMARY:Winchester City Council Meeting
DESCRIPTION:If you want to use your voice as a citizen and taxpayer or stay up to date on everything happening with Winchester City government\, consider attending the Winchester City Council meetings! They happen on the 2nd and 4th Tuesdays of each month.
URL:https://wfcrw.org/event/winchester-city-council-meeting/2028-01-25/
LOCATION:Rouss City Hall\, 15 North Cameron Street\, Winchester\, VA\, 22601\, United States
END:VEVENT
BEGIN:VEVENT
DTSTART;TZID=America/Halifax:20280222T180000
DTEND;TZID=America/Halifax:20280222T190000
DTSTAMP:20260421T095552
CREATED:20231019T210037Z
LAST-MODIFIED:20231019T210037Z
UID:10000325-1834855200-1834858800@wfcrw.org
SUMMARY:Winchester City Council Meeting
DESCRIPTION:If you want to use your voice as a citizen and taxpayer or stay up to date on everything happening with Winchester City government\, consider attending the Winchester City Council meetings! They happen on the 2nd and 4th Tuesdays of each month.
URL:https://wfcrw.org/event/winchester-city-council-meeting/2028-02-22/
LOCATION:Rouss City Hall\, 15 North Cameron Street\, Winchester\, VA\, 22601\, United States
END:VEVENT
BEGIN:VEVENT
DTSTART;TZID=America/Halifax:20280328T180000
DTEND;TZID=America/Halifax:20280328T190000
DTSTAMP:20260421T095552
CREATED:20231019T210037Z
LAST-MODIFIED:20231019T210037Z
UID:10000326-1837879200-1837882800@wfcrw.org
SUMMARY:Winchester City Council Meeting
DESCRIPTION:If you want to use your voice as a citizen and taxpayer or stay up to date on everything happening with Winchester City government\, consider attending the Winchester City Council meetings! They happen on the 2nd and 4th Tuesdays of each month.
URL:https://wfcrw.org/event/winchester-city-council-meeting/2028-03-28/
LOCATION:Rouss City Hall\, 15 North Cameron Street\, Winchester\, VA\, 22601\, United States
END:VEVENT
BEGIN:VEVENT
DTSTART;TZID=America/Halifax:20280425T180000
DTEND;TZID=America/Halifax:20280425T190000
DTSTAMP:20260421T095552
CREATED:20231019T210037Z
LAST-MODIFIED:20231019T210037Z
UID:10000327-1840298400-1840302000@wfcrw.org
SUMMARY:Winchester City Council Meeting
DESCRIPTION:If you want to use your voice as a citizen and taxpayer or stay up to date on everything happening with Winchester City government\, consider attending the Winchester City Council meetings! They happen on the 2nd and 4th Tuesdays of each month.
URL:https://wfcrw.org/event/winchester-city-council-meeting/2028-04-25/
LOCATION:Rouss City Hall\, 15 North Cameron Street\, Winchester\, VA\, 22601\, United States
END:VEVENT
BEGIN:VEVENT
DTSTART;TZID=America/Halifax:20280523T180000
DTEND;TZID=America/Halifax:20280523T190000
DTSTAMP:20260421T095552
CREATED:20231019T210037Z
LAST-MODIFIED:20231019T210037Z
UID:10000328-1842717600-1842721200@wfcrw.org
SUMMARY:Winchester City Council Meeting
DESCRIPTION:If you want to use your voice as a citizen and taxpayer or stay up to date on everything happening with Winchester City government\, consider attending the Winchester City Council meetings! They happen on the 2nd and 4th Tuesdays of each month.
URL:https://wfcrw.org/event/winchester-city-council-meeting/2028-05-23/
LOCATION:Rouss City Hall\, 15 North Cameron Street\, Winchester\, VA\, 22601\, United States
END:VEVENT
BEGIN:VEVENT
DTSTART;TZID=America/Halifax:20280627T180000
DTEND;TZID=America/Halifax:20280627T190000
DTSTAMP:20260421T095552
CREATED:20231019T210037Z
LAST-MODIFIED:20231019T210037Z
UID:10000329-1845741600-1845745200@wfcrw.org
SUMMARY:Winchester City Council Meeting
DESCRIPTION:If you want to use your voice as a citizen and taxpayer or stay up to date on everything happening with Winchester City government\, consider attending the Winchester City Council meetings! They happen on the 2nd and 4th Tuesdays of each month.
URL:https://wfcrw.org/event/winchester-city-council-meeting/2028-06-27/
LOCATION:Rouss City Hall\, 15 North Cameron Street\, Winchester\, VA\, 22601\, United States
END:VEVENT
BEGIN:VEVENT
DTSTART;TZID=America/Halifax:20280725T180000
DTEND;TZID=America/Halifax:20280725T190000
DTSTAMP:20260421T095552
CREATED:20231019T210037Z
LAST-MODIFIED:20231019T210037Z
UID:10000330-1848160800-1848164400@wfcrw.org
SUMMARY:Winchester City Council Meeting
DESCRIPTION:If you want to use your voice as a citizen and taxpayer or stay up to date on everything happening with Winchester City government\, consider attending the Winchester City Council meetings! They happen on the 2nd and 4th Tuesdays of each month.
URL:https://wfcrw.org/event/winchester-city-council-meeting/2028-07-25/
LOCATION:Rouss City Hall\, 15 North Cameron Street\, Winchester\, VA\, 22601\, United States
END:VEVENT
BEGIN:VEVENT
DTSTART;TZID=America/Halifax:20280822T180000
DTEND;TZID=America/Halifax:20280822T190000
DTSTAMP:20260421T095552
CREATED:20231019T210037Z
LAST-MODIFIED:20231019T210037Z
UID:10000331-1850580000-1850583600@wfcrw.org
SUMMARY:Winchester City Council Meeting
DESCRIPTION:If you want to use your voice as a citizen and taxpayer or stay up to date on everything happening with Winchester City government\, consider attending the Winchester City Council meetings! They happen on the 2nd and 4th Tuesdays of each month.
URL:https://wfcrw.org/event/winchester-city-council-meeting/2028-08-22/
LOCATION:Rouss City Hall\, 15 North Cameron Street\, Winchester\, VA\, 22601\, United States
END:VEVENT
BEGIN:VEVENT
DTSTART;TZID=America/Halifax:20280926T180000
DTEND;TZID=America/Halifax:20280926T190000
DTSTAMP:20260421T095552
CREATED:20231019T210037Z
LAST-MODIFIED:20231019T210037Z
UID:10000332-1853604000-1853607600@wfcrw.org
SUMMARY:Winchester City Council Meeting
DESCRIPTION:If you want to use your voice as a citizen and taxpayer or stay up to date on everything happening with Winchester City government\, consider attending the Winchester City Council meetings! They happen on the 2nd and 4th Tuesdays of each month.
URL:https://wfcrw.org/event/winchester-city-council-meeting/2028-09-26/
LOCATION:Rouss City Hall\, 15 North Cameron Street\, Winchester\, VA\, 22601\, United States
END:VEVENT
END:VCALENDAR