BEGIN:VCALENDAR
VERSION:2.0
PRODID:-//Winchester Frederick Clarke Republican Women - ECPv6.15.20//NONSGML v1.0//EN
CALSCALE:GREGORIAN
METHOD:PUBLISH
X-ORIGINAL-URL:https://wfcrw.org
X-WR-CALDESC:Events for Winchester Frederick Clarke Republican Women
REFRESH-INTERVAL;VALUE=DURATION:PT1H
X-Robots-Tag:noindex
X-PUBLISHED-TTL:PT1H
BEGIN:VTIMEZONE
TZID:America/Halifax
BEGIN:DAYLIGHT
TZOFFSETFROM:-0400
TZOFFSETTO:-0300
TZNAME:ADT
DTSTART:20240310T060000
END:DAYLIGHT
BEGIN:STANDARD
TZOFFSETFROM:-0300
TZOFFSETTO:-0400
TZNAME:AST
DTSTART:20241103T050000
END:STANDARD
BEGIN:DAYLIGHT
TZOFFSETFROM:-0400
TZOFFSETTO:-0300
TZNAME:ADT
DTSTART:20250309T060000
END:DAYLIGHT
BEGIN:STANDARD
TZOFFSETFROM:-0300
TZOFFSETTO:-0400
TZNAME:AST
DTSTART:20251102T050000
END:STANDARD
BEGIN:DAYLIGHT
TZOFFSETFROM:-0400
TZOFFSETTO:-0300
TZNAME:ADT
DTSTART:20260308T060000
END:DAYLIGHT
BEGIN:STANDARD
TZOFFSETFROM:-0300
TZOFFSETTO:-0400
TZNAME:AST
DTSTART:20261101T050000
END:STANDARD
END:VTIMEZONE
BEGIN:VEVENT
DTSTART;TZID=America/Halifax:20250304T180000
DTEND;TZID=America/Halifax:20250304T210000
DTSTAMP:20260422T041830
CREATED:20250202T215627Z
LAST-MODIFIED:20250202T215627Z
UID:10002305-1741111200-1741122000@wfcrw.org
SUMMARY:Mardi Gras Masquerade Gala
DESCRIPTION:The Winchester City Sheriff’s Office Foundation Mardi Gras Masquerade Gala on Tuesday\, March 4 at the George Washington Hotel. 6-9PM \n That is on the actual Fat Tuesday of Mardi Gras!  \nPlease support this very worthy fundraiser that provides events such as shop with the Sheriff at Christmas\, Read with the Sheriff at WPS elementary schools and many other community events as well as fund special unfunded programs the City Sheriff’s Office supports \nAlso\, for those that would like\, checks are accepted if you prefer. contact Katie Jordan landikm@gmail.com to arrange in advance. No Payments at the Door. \nAlso being finalized is special Guest Lt Gov Winsome Earle Sears \n\nEventBrite link: https://www.eventbrite.com/e/mardi-gras-masquerade-benefitting-winchester-city-sheriffs-foundation-tickets-1095460875969?aff=oddtdtcreator
URL:https://wfcrw.org/event/mardi-gras-masquerade-gala/
LOCATION:George Washington Hotel\, 103 E. Picadilly Street\, Winchester\, VA\, 22602\, United States
END:VEVENT
BEGIN:VEVENT
DTSTART;TZID=America/Halifax:20250304T180000
DTEND;TZID=America/Halifax:20250304T220000
DTSTAMP:20260422T041830
CREATED:20250202T215004Z
LAST-MODIFIED:20250202T215004Z
UID:10002304-1741111200-1741125600@wfcrw.org
SUMMARY:Lincoln-Reagan Dinner
DESCRIPTION:Bid in the silent auction with themed baskets from Wine baskets to Spa baskets. Enjoy amazing food and drink while listening to Featured Speaker Xi Van Fleet\, who survived Mao’s China and now warns Americans of the danger of Marxist ideology and the parallels between the two Cultural Revolutions\, one in China more than 50 years ago and one unfolding in America today. She is a frequent guest speaker on Fox News and other conservative media outlets.\nAlso in attendance as a featured guest will be one of the original members of the Loudoun Parents Rights Movement that made National news in 2021 with Ian Prior\, Parent’s Rights Activist and Former Republican Loudoun County School Board Member Tiffany Polifko. \nThis is a “You Don’t Want to Miss This” event. Tickets are limited\, so do not wait. Lock in your spot to this inspirational event that will inspire you to get up and help make a difference. \nEventbrite Link:\n \nhttps://www.eventbrite.com/e/2025-lincoln-reagan-dinner-tickets-1207973744989?aff=ebdssbdestsearch
URL:https://wfcrw.org/event/lincoln-reagan-dinner/
LOCATION:Winchester Country Club\, 1300 Senseny Road\, Winchester\, VA\, 22602\, United States
END:VEVENT
BEGIN:VEVENT
DTSTART;TZID=America/Halifax:20250305T113000
DTEND;TZID=America/Halifax:20250305T130000
DTSTAMP:20260422T041830
CREATED:20250221T152014Z
LAST-MODIFIED:20250221T152014Z
UID:10002307-1741174200-1741179600@wfcrw.org
SUMMARY:Join Us for our March Luncheon
DESCRIPTION:Join the WFCRW for our monthly luncheon and enjoy our special guest speakers. Both members and guests are welcome! \nTo pay online or to make a reservation\, and to read about our guest speaker\, go to our Meetings page at https://wfcrw.org/meetings/. \nLunch is $17 at the door or $18 online.
URL:https://wfcrw.org/event/join-us-for-our-march-luncheon/
LOCATION:Winchester Country Club\, 1300 Senseny Road\, Winchester\, VA\, 22602\, United States
END:VEVENT
BEGIN:VEVENT
DTSTART;TZID=America/Halifax:20250311T180000
DTEND;TZID=America/Halifax:20250311T190000
DTSTAMP:20260422T041830
CREATED:20231019T210249Z
LAST-MODIFIED:20231019T210249Z
UID:10000349-1741716000-1741719600@wfcrw.org
SUMMARY:Winchester City Council Meeting
DESCRIPTION:If you want to use your voice as a citizen and taxpayer or stay up to date on everything happening with Winchester City government\, consider attending the Winchester City Council meetings! They happen on the 2nd and 4th Tuesdays of each month.
URL:https://wfcrw.org/event/winchester-city-council-meeting-2/2025-03-11/
LOCATION:Rouss City Hall\, 15 North Cameron Street\, Winchester\, VA\, 22601\, United States
END:VEVENT
BEGIN:VEVENT
DTSTART;TZID=America/Halifax:20250312T190000
DTEND;TZID=America/Halifax:20250312T200000
DTSTAMP:20260422T041830
CREATED:20231019T201120Z
LAST-MODIFIED:20231019T201120Z
UID:10000168-1741806000-1741809600@wfcrw.org
SUMMARY:Frederick County Board of Supervisors Meeting
DESCRIPTION:If you want to use your voice as a citizen and taxpayer or stay up to date on everything happening with Frederick County government\, consider attending the Frederick County Board of Supervisors meetings! They happen on the 2nd and 4th Wednesdays of each month.
URL:https://wfcrw.org/event/frederick-county-board-of-supervisors-meeting-3/2025-03-12/
LOCATION:Frederick County Government Building\, 107 N Kent St\, Winchester\, VA\, 22601\, United States
END:VEVENT
BEGIN:VEVENT
DTSTART;TZID=America/Halifax:20250318T190000
DTEND;TZID=America/Halifax:20250318T200000
DTSTAMP:20260422T041830
CREATED:20231019T201822Z
LAST-MODIFIED:20231019T201822Z
UID:10000229-1742324400-1742328000@wfcrw.org
SUMMARY:Frederick County School Board Meeting
DESCRIPTION:If you want to use your voice as a parent\, citizen\, or taxpayer or stay up to date on everything happening with Frederick County Public Schools\, consider attending the Frederick County School Board meetings! They happen on the 3rd Tuesday of each month.
URL:https://wfcrw.org/event/frederick-county-school-board-meeting/2025-03-18/
LOCATION:Frederick County Public Schools Administration Building\, 1415 Amherst Street\, Winchester\, VA\, 22601\, United States
END:VEVENT
BEGIN:VEVENT
DTSTART;TZID=America/Halifax:20250324T180000
DTEND;TZID=America/Halifax:20250324T180000
DTSTAMP:20260422T041830
CREATED:20231019T210753Z
LAST-MODIFIED:20231019T210753Z
UID:10000410-1742839200-1742839200@wfcrw.org
SUMMARY:Winchester City School Board Meeting
DESCRIPTION:If you want to use your voice as a parent\, citizen\, or taxpayer or stay up to date on everything happening with Winchester City Public Schools consider attending the Winchester City School Board meetings! They happen on the 4th Monday of each month.
URL:https://wfcrw.org/event/winchester-city-school-board-meeting/2025-03-24/
LOCATION:Douglas School Central Administration Office\, 598 N Kent St\, Winchester\, VA\, 22601\, United States
END:VEVENT
BEGIN:VEVENT
DTSTART;TZID=America/Halifax:20250325T180000
DTEND;TZID=America/Halifax:20250325T190000
DTSTAMP:20260422T041830
CREATED:20231019T210037Z
LAST-MODIFIED:20231019T210037Z
UID:10000290-1742925600-1742929200@wfcrw.org
SUMMARY:Winchester City Council Meeting
DESCRIPTION:If you want to use your voice as a citizen and taxpayer or stay up to date on everything happening with Winchester City government\, consider attending the Winchester City Council meetings! They happen on the 2nd and 4th Tuesdays of each month.
URL:https://wfcrw.org/event/winchester-city-council-meeting/2025-03-25/
LOCATION:Rouss City Hall\, 15 North Cameron Street\, Winchester\, VA\, 22601\, United States
END:VEVENT
BEGIN:VEVENT
DTSTART;TZID=America/Halifax:20250327T190000
DTEND;TZID=America/Halifax:20250327T203000
DTSTAMP:20260422T041830
CREATED:20231012T200852Z
LAST-MODIFIED:20231012T200852Z
UID:10000049-1743102000-1743107400@wfcrw.org
SUMMARY:Clarke County Republican Committee Meeting
DESCRIPTION:Join the Clarke County Republican Committee for their monthly meeting at the Old Courthouse on Church St in Berryville \n  \nSpeakers start at 7PM \nMeeting starts at 7:30PM
URL:https://wfcrw.org/event/clarke-county-republican-committee-meeting/2025-03-27/
LOCATION:Old Court House\, 104 N. Church St.\, Berryville\, VA\, 22611\, United States
END:VEVENT
BEGIN:VEVENT
DTSTART;TZID=America/Halifax:20250329T170000
DTEND;TZID=America/Halifax:20250329T220000
DTSTAMP:20260422T041830
CREATED:20250206T202010Z
LAST-MODIFIED:20250206T202010Z
UID:10002306-1743267600-1743285600@wfcrw.org
SUMMARY:Armed for Liberty
DESCRIPTION:Get tickets at www.armedforliberty.com. \nPrinted tickets are available if anyone prefers to pay cash instead of online. Please contact Emily Kelley at 540-247-6753 or ekelley8804@gmail.com for more details.
URL:https://wfcrw.org/event/armed-for-liberty/
LOCATION:Winchester Moose Lodge\, 215 East Cork St.\, Winchester\, Virginia\, 22601
END:VEVENT
END:VCALENDAR